BEGIN:VCALENDAR
VERSION:2.0
PRODID:-//Texas Midwest Community Network - ECPv6.15.20//NONSGML v1.0//EN
CALSCALE:GREGORIAN
METHOD:PUBLISH
X-ORIGINAL-URL:https://tmcn.org
X-WR-CALDESC:Events for Texas Midwest Community Network
REFRESH-INTERVAL;VALUE=DURATION:PT1H
X-Robots-Tag:noindex
X-PUBLISHED-TTL:PT1H
BEGIN:VTIMEZONE
TZID:America/Chicago
BEGIN:DAYLIGHT
TZOFFSETFROM:-0600
TZOFFSETTO:-0500
TZNAME:CDT
DTSTART:20230312T080000
END:DAYLIGHT
BEGIN:STANDARD
TZOFFSETFROM:-0500
TZOFFSETTO:-0600
TZNAME:CST
DTSTART:20231105T070000
END:STANDARD
BEGIN:DAYLIGHT
TZOFFSETFROM:-0600
TZOFFSETTO:-0500
TZNAME:CDT
DTSTART:20240310T080000
END:DAYLIGHT
BEGIN:STANDARD
TZOFFSETFROM:-0500
TZOFFSETTO:-0600
TZNAME:CST
DTSTART:20241103T070000
END:STANDARD
BEGIN:DAYLIGHT
TZOFFSETFROM:-0600
TZOFFSETTO:-0500
TZNAME:CDT
DTSTART:20250309T080000
END:DAYLIGHT
BEGIN:STANDARD
TZOFFSETFROM:-0500
TZOFFSETTO:-0600
TZNAME:CST
DTSTART:20251102T070000
END:STANDARD
BEGIN:DAYLIGHT
TZOFFSETFROM:-0600
TZOFFSETTO:-0500
TZNAME:CDT
DTSTART:20260308T080000
END:DAYLIGHT
BEGIN:STANDARD
TZOFFSETFROM:-0500
TZOFFSETTO:-0600
TZNAME:CST
DTSTART:20261101T070000
END:STANDARD
END:VTIMEZONE
BEGIN:VEVENT
DTSTART;TZID=America/Chicago:20250723T113000
DTEND;TZID=America/Chicago:20250723T143000
DTSTAMP:20260420T135755
CREATED:20250619T190158Z
LAST-MODIFIED:20250702T195801Z
UID:10000087-1753270200-1753281000@tmcn.org
SUMMARY:July Membership Meeting - How to Succeed at Hard Conversations
DESCRIPTION:You’re Invited!\nTMCN Quarterly Membership Meeting\nJoin us for a powerful and practical session you won’t want to miss.\nGuest Speaker: Nolan Sosa\, Vice President of Human Resources at Shannon Health\nTopic: How to Succeed at Hard Conversations \nDon’t miss this opportunity to gain valuable insights on navigating tough workplace conversations with confidence and clarity. \nAs always\, enjoy networking time during the lunch hour with your peers—because at TMCN\, we believe in sharing solutions\, not re-inventing the wheel. \n\nWHEN: July 23\, 2025 \nWHERE: Taylor Co. Historical Bldg  317 Pecan St. Abilene TX 79601 \nTIME: 11:30am – 2:30pm \nCOST: $20 (LUNCH INCLUDED) \n\n\n                \n                        \n                            Quarterly Membership Meeting\n                             \n                        \n                        Name*\n                            \n                            \n                                                    \n                                                    First\n                                                \n                            \n                            \n                                                    \n                                                    Last\n                                                \n                            \n                        Email*\n                            \n                        Phone*Names of Attendees      (click + to add more)Community Name*Number of Registrations Quantity*\n					\n					\n						Price:\n						$20.00\n					\n					\n					 Quantity \n				Total\n							$0.00\n							\n						Credit Card\n			\n          \n            \n            \n            \n            \n            \n            \n            \n            \n            \n            \n            \n            \n            \n        \n                        Δ
URL:https://tmcn.org/event/july-membership-meeting-how-to-succeed-at-hard-conversations/
LOCATION:Taylor Co. Historical Commission office\, 317 Pecan\, Abilene\, TX\, 79601\, United States
ORGANIZER;CN="Texas Midwest Community Network":MAILTO:tmcn@tmcn.org
END:VEVENT
BEGIN:VEVENT
DTSTART;TZID=America/Chicago:20240424T113000
DTEND;TZID=America/Chicago:20240424T143000
DTSTAMP:20260420T135755
CREATED:20240104T004246Z
LAST-MODIFIED:20240104T004246Z
UID:10000069-1713958200-1713969000@tmcn.org
SUMMARY:Membership Meeting  - April 2024
DESCRIPTION:STRUGGLING WITH …TIME MANAGEMENT??                       \nIn school\, work\, and daily life\, we may encounter people who seem to have it all together. They are productive\, stress-free\, high achievers. But chances are\, they were not born that way. Managing\, organizing\, and distributing time are skills that we can learn. Doing so can help you control your time and promote overall satisfaction.  \nFor our April membership meeting\, come\, listen and take away key tips on Time Management.  Our guest speaker will be Shannon Health’s Director of Regional Outreach Nolan Sosa.  \nWHEN: April 24\, 2024 \nWHERE: 317 Pecan St. Abilene TX 79601 \nTIME: 11:30AM – 2:30PM \nCOST: $15 \n\n                \n                        \n                            Quarterly Membership Meeting\n                             \n                        \n                        Name*\n                            \n                            \n                                                    \n                                                    First\n                                                \n                            \n                            \n                                                    \n                                                    Last\n                                                \n                            \n                        Email*\n                            \n                        Phone*Names of Attendees      (click + to add more)Community Name*Number of Registrations Quantity*\n					\n					\n						Price:\n						$20.00\n					\n					\n					 Quantity \n				Total\n							$0.00\n							\n						Credit Card\n			\n          \n            \n            \n            \n            \n            \n            \n            \n            \n            \n            \n            \n            \n            \n        \n                        Δ
URL:https://tmcn.org/event/membership-meeting-april-2024/
LOCATION:Taylor Co. Historical Commission office\, 317 Pecan\, Abilene\, TX\, 79601\, United States
ORGANIZER;CN="Texas Midwest Community Network":MAILTO:tmcn@tmcn.org
END:VEVENT
END:VCALENDAR