BEGIN:VCALENDAR
VERSION:2.0
PRODID:-//Texas Midwest Community Network - ECPv6.15.20//NONSGML v1.0//EN
CALSCALE:GREGORIAN
METHOD:PUBLISH
X-ORIGINAL-URL:https://tmcn.org
X-WR-CALDESC:Events for Texas Midwest Community Network
REFRESH-INTERVAL;VALUE=DURATION:PT1H
X-Robots-Tag:noindex
X-PUBLISHED-TTL:PT1H
BEGIN:VTIMEZONE
TZID:America/Chicago
BEGIN:DAYLIGHT
TZOFFSETFROM:-0600
TZOFFSETTO:-0500
TZNAME:CDT
DTSTART:20230312T080000
END:DAYLIGHT
BEGIN:STANDARD
TZOFFSETFROM:-0500
TZOFFSETTO:-0600
TZNAME:CST
DTSTART:20231105T070000
END:STANDARD
BEGIN:DAYLIGHT
TZOFFSETFROM:-0600
TZOFFSETTO:-0500
TZNAME:CDT
DTSTART:20240310T080000
END:DAYLIGHT
BEGIN:STANDARD
TZOFFSETFROM:-0500
TZOFFSETTO:-0600
TZNAME:CST
DTSTART:20241103T070000
END:STANDARD
BEGIN:DAYLIGHT
TZOFFSETFROM:-0600
TZOFFSETTO:-0500
TZNAME:CDT
DTSTART:20250309T080000
END:DAYLIGHT
BEGIN:STANDARD
TZOFFSETFROM:-0500
TZOFFSETTO:-0600
TZNAME:CST
DTSTART:20251102T070000
END:STANDARD
END:VTIMEZONE
BEGIN:VEVENT
DTSTART;TZID=America/Chicago:20240508T113000
DTEND;TZID=America/Chicago:20240508T130000
DTSTAMP:20260421T070939
CREATED:20240124T225504Z
LAST-MODIFIED:20240425T232116Z
UID:10000073-1715167800-1715173200@tmcn.org
SUMMARY:CANCELLED - Quadrant Meeting - Hamlin
DESCRIPTION:2023 brought something to light that many of us hadn’t put much thought or interest into – the phenomenon of ChatGPT!! \nJohn DiMauro/Top Level Training will be giving a LIVE demonstration utilizing ChatGPT\, helping implement this “crazy” new tool into our everyday lives! We will see how it can work directly in a grant application process\, and MORE! We will have Q & A after the demonstrations\, so bring your thoughts and your questions to be put to the test! \nWHEN: WEDNESDAY MAY 8\, 2024 \nWHERE: HAMLIN – Location TBD \nTIME: 11:30am to 1:00pm \n 
URL:https://tmcn.org/event/quadrant-meeting-hamlin-using-ai-chatgpt/
LOCATION:TX
ORGANIZER;CN="Texas Midwest Community Network":MAILTO:tmcn@tmcn.org
END:VEVENT
END:VCALENDAR