BEGIN:VCALENDAR
VERSION:2.0
PRODID:-//Texas Midwest Community Network - ECPv6.15.20//NONSGML v1.0//EN
CALSCALE:GREGORIAN
METHOD:PUBLISH
X-WR-CALNAME:Texas Midwest Community Network
X-ORIGINAL-URL:https://tmcn.org
X-WR-CALDESC:Events for Texas Midwest Community Network
REFRESH-INTERVAL;VALUE=DURATION:PT1H
X-Robots-Tag:noindex
X-PUBLISHED-TTL:PT1H
BEGIN:VTIMEZONE
TZID:America/Chicago
BEGIN:DAYLIGHT
TZOFFSETFROM:-0600
TZOFFSETTO:-0500
TZNAME:CDT
DTSTART:20200308T080000
END:DAYLIGHT
BEGIN:STANDARD
TZOFFSETFROM:-0500
TZOFFSETTO:-0600
TZNAME:CST
DTSTART:20201101T070000
END:STANDARD
BEGIN:DAYLIGHT
TZOFFSETFROM:-0600
TZOFFSETTO:-0500
TZNAME:CDT
DTSTART:20210314T080000
END:DAYLIGHT
BEGIN:STANDARD
TZOFFSETFROM:-0500
TZOFFSETTO:-0600
TZNAME:CST
DTSTART:20211107T070000
END:STANDARD
BEGIN:DAYLIGHT
TZOFFSETFROM:-0600
TZOFFSETTO:-0500
TZNAME:CDT
DTSTART:20220313T080000
END:DAYLIGHT
BEGIN:STANDARD
TZOFFSETFROM:-0500
TZOFFSETTO:-0600
TZNAME:CST
DTSTART:20221106T070000
END:STANDARD
END:VTIMEZONE
BEGIN:VEVENT
DTSTART;TZID=America/Chicago:20211027T090000
DTEND;TZID=America/Chicago:20211027T170000
DTSTAMP:20260419T180041
CREATED:20200824T223340Z
LAST-MODIFIED:20211021T181254Z
UID:10000039-1635325200-1635354000@tmcn.org
SUMMARY:28th Annual Texas Midwest Conference
DESCRIPTION:The Texas Midwest Annual Conference is our signature event which offers timely educational sessions\, motivational speakers\, and peer-to-peer networking. We are especially excited to welcome our Keynote Speaker Scott Joslove\, President and CEO of the Texas Hotel & Lodging Association\, to this year’s Conference. Scott is an expert in the lodging industry and on the proper uses of the Hotel Occupancy Tax. He will dispel the myths of these uses as well as share the details of the emerging Tourism Public Improvement Districts. \nAdditional breakouts sessions include (see full 2021 Conference Program2021 Conference Program here): \n\nSocial Media: Moving Your Community or Business in Cyberspace\nKeep Moving Forward During Slow Times – Do Something Fun & Meaningful\nHow to Keep Yourself Mentally Healthy in Challenging Times\nHow to Move Your Community Upward with Technology\nPutting Your Best Foot Forward: Design to be Noticed\nTourism as Economic Development\nBuilding Capacity in Your Community With Paid Volunteers\nSenate Bill 3: Creating Your Mandatory Emergency Preparedness Plan ***All Day Session***\n\nMark your calendars for Wednesday\, October 27th and make plans to join us for the 28th Annual Texas Midwest Conference. \n\n\n\n\nWHO SHOULD ATTEND? \nElected Officials\, City Administrators\, EDC Practitioners & Board Members\, Chamber of Commerce Executives & Board Members\, Civic Volunteers\, School Administrators & Students\,\nHealthcare Professionals… in general\, the “Movers & Shakers” in your Community! \n  \nREGISTRATION DETAILS \n*** DEADLINE TO REGISTER IS Oct. 20th *** \nPre-registration for individual – $45/person \nPre-registration for students – $25/person \nPre-registration for non-member – $60/person \nRegistration after October 20th – $75/person \n\nPlease be aware that each registration is subject to verification of membership status. \nGuest Registration\n\n\n \n\n\nType of Registration\n\n\nMember $75.00 USDNon-Member $75.00 USDStudent $25.00 USD \n\n\n\n\n\n\n\nExhibitor & Sponsor Registration\n\n \n\n\n\nType of Registration\n\n\nExhibitor $250.00 USDConference Sponsor $150.00 USD\n\n\n\n\n\n \n\n\nTCEQ Session Registration\nRegister here for the TCEQ Emergency Preparedness Session – $60 Per Person
URL:https://tmcn.org/event/28th-annual-texas-midwest-conference/
LOCATION:Abilene Convention Center\, 1100 N 6th\, Abilene\, TX\, 79601\, United States
ATTACH;FMTTYPE=image/jpeg:https://tmcn.org/wp-content/uploads/2020/11/ABILENE-CIVIC-CENTER-e1606076621220.jpg
ORGANIZER;CN="Texas Midwest Community Network":MAILTO:tmcn@tmcn.org
END:VEVENT
END:VCALENDAR