BEGIN:VCALENDAR
VERSION:2.0
PRODID:-//Texas Midwest Community Network - ECPv6.15.20//NONSGML v1.0//EN
CALSCALE:GREGORIAN
METHOD:PUBLISH
X-WR-CALNAME:Texas Midwest Community Network
X-ORIGINAL-URL:https://tmcn.org
X-WR-CALDESC:Events for Texas Midwest Community Network
REFRESH-INTERVAL;VALUE=DURATION:PT1H
X-Robots-Tag:noindex
X-PUBLISHED-TTL:PT1H
BEGIN:VTIMEZONE
TZID:America/Chicago
BEGIN:DAYLIGHT
TZOFFSETFROM:-0600
TZOFFSETTO:-0500
TZNAME:CDT
DTSTART:20230312T080000
END:DAYLIGHT
BEGIN:STANDARD
TZOFFSETFROM:-0500
TZOFFSETTO:-0600
TZNAME:CST
DTSTART:20231105T070000
END:STANDARD
BEGIN:DAYLIGHT
TZOFFSETFROM:-0600
TZOFFSETTO:-0500
TZNAME:CDT
DTSTART:20240310T080000
END:DAYLIGHT
BEGIN:STANDARD
TZOFFSETFROM:-0500
TZOFFSETTO:-0600
TZNAME:CST
DTSTART:20241103T070000
END:STANDARD
BEGIN:DAYLIGHT
TZOFFSETFROM:-0600
TZOFFSETTO:-0500
TZNAME:CDT
DTSTART:20250309T080000
END:DAYLIGHT
BEGIN:STANDARD
TZOFFSETFROM:-0500
TZOFFSETTO:-0600
TZNAME:CST
DTSTART:20251102T070000
END:STANDARD
END:VTIMEZONE
BEGIN:VEVENT
DTSTART;TZID=America/Chicago:20240131T113000
DTEND;TZID=America/Chicago:20240131T143000
DTSTAMP:20260419T125547
CREATED:20240103T202655Z
LAST-MODIFIED:20240103T202840Z
UID:10000068-1706700600-1706711400@tmcn.org
SUMMARY:Membership Meeting - Jan 31\, 2024
DESCRIPTION:IT’S THE FIRST MEMBERSHIP MEETING OF THE YEAR! \nCome find out how the 88th Legislative Session ended\, and what bills and laws will now affect our rural communities. TMCN board member and Vice Chancellor of TSTC\, Gail Lawrence\, will give us an update that will be sure to enlighten. \nWe will also be hearing a little more about ChatGPT and how to use it in your daily work\, grants\, etc. \nAnd as always\, there will be the inspiring networking with your peers time. \nWHEN: WEDNESDAY JANUARY 31\, 2024 \nWHERE: Hendrick Service Center\, Volunteer Hall  4310 Buffalo Gap Rd.  Abilene\, TX 79606 \nNOTE: This is the old Sears store\, Mall of Abilene. Guests will park and enter at the East entrance (North of Best Buy and El Chico) \nTIME: 11:30am until 2:30pm \nCOST: $15 \n\n\n                \n                        \n                            Quarterly Membership Meeting\n                             \n                        \n                        Name*\n                            \n                            \n                                                    \n                                                    First\n                                                \n                            \n                            \n                                                    \n                                                    Last\n                                                \n                            \n                        Email*\n                            \n                        Phone*Names of Attendees      (click + to add more)Community Name*Number of Registrations Quantity*\n					\n					\n						Price:\n						$20.00\n					\n					\n					 Quantity \n				Total\n							$0.00\n							\n						Credit Card\n			\n          \n            \n            \n            \n            \n            \n            \n            \n            \n            \n            \n            \n            \n            \n        \n                        Δ
URL:https://tmcn.org/event/membership-meeting-jan-31-2024/
LOCATION:Hendrick Health Volunteers Hall\, 4310 Buffalo Gap Rd\, Abilene\, TX\, 79606\, United States
ATTACH;FMTTYPE=image/jpeg:https://tmcn.org/wp-content/uploads/2019/10/Texas-State-Capitol.jpg
ORGANIZER;CN="Texas Midwest Community Network":MAILTO:tmcn@tmcn.org
END:VEVENT
BEGIN:VEVENT
DTSTART;TZID=America/Chicago:20240306T113000
DTEND;TZID=America/Chicago:20240306T133000
DTSTAMP:20260419T125547
CREATED:20240124T223143Z
LAST-MODIFIED:20240220T145510Z
UID:10000072-1709724600-1709731800@tmcn.org
SUMMARY:Quadrant Meeting - Hamilton - Code Enforcement
DESCRIPTION:What is Code Enforcement? Well simplified\, Code Enforcement is the act of a city enforcing and ensuring compliance with previously adopted city ordinances. Code Enforcement can be defined as: collaboration between the city\, property owner\, and surrounding property owners to maintain\, improve\, or remove nuisances that impact the community property values\, and quality of life in a positive manner. \nSounds simple enough…but we all know it can be more complex than ‘removing nuisances’. Come learn from speaker Danny Barrett about best practices for Code Enforcement. And we will learn how the community of Seymour streamlined it to a ‘one-page wonder’ form that works for them. \nWHEN: March 6\, 2024 \nWHERE: Wenzel’s Lonestar Meat  209 N. Bell St. Hamilton 76531 \nTIME: 11:30AM – 1:30PM \nCOST: $20 \n\n                \n                        \n                            Quadrant Luncheon Registration\n                             \n                        \n                        Name\n                            \n                            \n                                                    \n                                                    First\n                                                \n                            \n                            \n                                                    \n                                                    Last\n                                                \n                            \n                        Tickets Quantity\n					\n					\n						Price:\n						$20.00\n					\n					\n					 Quantity \n				Total\n							\n						If registering more than one person\, please list all attendeesPhone *(Required)Email*(Required)\n                            \n                        Credit CardCard Details\n					\n					Cardholder Name\n				\n			\n          \n            \n            \n            \n            \n            \n            \n            \n            \n            \n            \n            \n            \n            \n        \n                        Δ
URL:https://tmcn.org/event/quadrant-meeting-hamilton-code-enforcement/
LOCATION:TX
ORGANIZER;CN="Texas Midwest Community Network":MAILTO:tmcn@tmcn.org
END:VEVENT
END:VCALENDAR