BEGIN:VCALENDAR
VERSION:2.0
PRODID:-//Texas Midwest Community Network - ECPv6.15.20//NONSGML v1.0//EN
CALSCALE:GREGORIAN
METHOD:PUBLISH
X-WR-CALNAME:Texas Midwest Community Network
X-ORIGINAL-URL:https://tmcn.org
X-WR-CALDESC:Events for Texas Midwest Community Network
REFRESH-INTERVAL;VALUE=DURATION:PT1H
X-Robots-Tag:noindex
X-PUBLISHED-TTL:PT1H
BEGIN:VTIMEZONE
TZID:America/Chicago
BEGIN:DAYLIGHT
TZOFFSETFROM:-0600
TZOFFSETTO:-0500
TZNAME:CDT
DTSTART:20200308T080000
END:DAYLIGHT
BEGIN:STANDARD
TZOFFSETFROM:-0500
TZOFFSETTO:-0600
TZNAME:CST
DTSTART:20201101T070000
END:STANDARD
BEGIN:DAYLIGHT
TZOFFSETFROM:-0600
TZOFFSETTO:-0500
TZNAME:CDT
DTSTART:20210314T080000
END:DAYLIGHT
BEGIN:STANDARD
TZOFFSETFROM:-0500
TZOFFSETTO:-0600
TZNAME:CST
DTSTART:20211107T070000
END:STANDARD
BEGIN:DAYLIGHT
TZOFFSETFROM:-0600
TZOFFSETTO:-0500
TZNAME:CDT
DTSTART:20220313T080000
END:DAYLIGHT
BEGIN:STANDARD
TZOFFSETFROM:-0500
TZOFFSETTO:-0600
TZNAME:CST
DTSTART:20221106T070000
END:STANDARD
END:VTIMEZONE
BEGIN:VEVENT
DTSTART;TZID=America/Chicago:20210429T113000
DTEND;TZID=America/Chicago:20210429T150000
DTSTAMP:20260422T071202
CREATED:20210125T143513Z
LAST-MODIFIED:20210420T175445Z
UID:10000042-1619695800-1619708400@tmcn.org
SUMMARY:Quarterly Membership Meeting
DESCRIPTION:We are excited to be able to announce that we will be holding this Membership Meeting in person will plenty of room to social distance as needed. The meeting will begin with an organization update followed by and engaging and informative presentation by the City Managers in Coleman\, Ballinger & Brady – Diana Lopez\, Brian Frieda and Dennis Jobe – regarding the joint work they are doing to benefit their respective communities. Diana will also share Coleman’s harrowing Snow-Vid 2021 experience and how the community came together along with State officials to overcome numerous obstacles. \nMember communities are encouraged to invite their municipal representatives as well as EDC and Chamber representatives who work to address infrastructure needs to promote business development and tourism activities. \n\n\n                \n                        Name*\n                            \n                            \n                                                    \n                                                    First\n                                                \n                            \n                            \n                                                    \n                                                    Last\n                                                \n                            \n                        Email*\n                            \n                        Phone*Names of Attendees      (click + to add more)Community Name*Number of Registrations Quantity*\n					\n					\n						Price:\n						$20.00\n					\n					\n					 Quantity \n				Total\n							$0.00\n							\n						Credit Card\n			\n          \n            \n            \n            \n            \n            \n            \n            \n            \n            \n            \n            \n            \n            \n        \n                        Δ \n                        \n		                \n		                \n\nIf you would like us to send you an invoice for electronic payment\, please email us at tmcn@tmcn.org.
URL:https://tmcn.org/event/quarterly-membership-meeting-2/
LOCATION:Community Foundation of Abilene\, 850 N. 1st\, Abilene\, TX\, 79604\, United States
ATTACH;FMTTYPE=image/jpeg:https://tmcn.org/wp-content/uploads/2021/01/New-building.jpg
ORGANIZER;CN="Texas Midwest Community Network":MAILTO:tmcn@tmcn.org
END:VEVENT
END:VCALENDAR